BEGIN:VCALENDAR
VERSION:2.0
PRODID:-//CiviCRM//NONSGML CiviEvent iCal//EN
X-WR-TIMEZONE:Europe/London
METHOD:PUBLISH
BEGIN:VTIMEZONE
TZID:Europe/London
BEGIN:DAYLIGHT
TZOFFSETFROM:+0100
TZOFFSETTO:+0100
TZNAME:BST
DTSTART:20260520T170000
END:DAYLIGHT
END:VTIMEZONE
BEGIN:VEVENT
UID:CiviCRM_EventID_1979_e86a4f28f24ec85011f2b11344e0bb4c@onenucleus.com
SUMMARY:BioWednesday Cambridge: Navigating Growth: Workpla
 ce\, Culture and Funding
X-ALT-DESC;FMTTYPE=text/html:<!DOCTYPE HTML PUBLIC
  "-//W3C//DTD HTML 3.2//EN"><html><body><p>Our Bio
 Wednesday will explore the topic of how to plan yo
 ur next move\, whether scaling up\, adapting your 
 workspace or preparing for future growth. Our expe
 rt panel will bring perspectives from legal\, arch
 itectural\, leasing\, and companies who can share 
 lessons on key considerations and pitfalls to avoi
 d on how to align your space and growth strategy f
 or long-term success.<br />\n <br />\n Enjoy happy
  hour networking and time to explore The Workshop 
 at CamLIFE.</p>\n \n <p><strong>Agenda</strong>:<b
 r />\n 17.00 – 17.30 Arrival and Happy Hour Networ
 king<br />\n 17.30 – 18.30 Panel Discussion<br />\
 n Moderator: James Evans\, Senior Director\, Opera
 tions\, Longfellow Real Estate Partners<br />\n Pa
 nelists: Laura Gorman\, Partner\, Penningtons Manc
 hes Cooper<br />\n Further panelists tbc<br />\n 1
 8.30 – 19.30 Further Networking and Close</p>\n \n
  <p><strong>Registration: </strong></p>\n \n <p>• 
    Registration is <strong>free</strong> for emplo
 yees of One Nucleus member organisations<br />\n •
     Non-members: £50 +VAT<br />\n •    Academics: 
 please contact <a href="mailto:info@onenucleus.com
 ">info@onenucleus.com</a></p></body></html>
DESCRIPTION:Our BioWednesday will explore the topic of how to 
 plan your next move\, whether scaling up\, adaptin
 g your workspace or preparing for future growth. O
 ur expert panel will bring perspectives from legal
 \, architectural\, leasing\, and companies who can
  share lessons on key considerations and pitfalls 
 to avoid on how to align your space and growth str
 ategy for long-term success.\n \n \n \n Enjoy happ
 y hour networking and time to explore The Workshop
  at CamLIFE.\n \n \n \n Agenda:\n \n 17.00 – 17.30
  Arrival and Happy Hour Networking\n \n 17.30 – 18
 .30 Panel Discussion\n \n Moderator: James Evans\,
  Senior Director\, Operations\, Longfellow Real Es
 tate Partners\n \n Panelists: Laura Gorman\, Partn
 er\, Penningtons Manches Cooper\n \n Further panel
 ists tbc\n \n 18.30 – 19.30 Further Networking and
  Close\n \n \n \n Registration: \n \n \n \n •    R
 egistration is free for employees of One Nucleus m
 ember organisations\n \n •    Non-members: £50 +VA
 T\n \n •    Academics: please contact info@onenucl
 eus.com (mailto:info@onenucleus.com)\n \n 
CATEGORIES:Events
CALSCALE:GREGORIAN
DTSTAMP;TZID=Europe/London:20260520T170000
DTSTART;TZID=Europe/London:20260520T170000
DTEND;TZID=Europe/London:20260520T193000
LOCATION:The Workshop\n CamLIFE\n Cambridge\, CB21 5XE\n Un
 ited Kingdom\n 
URL:https://onenucleus.com/civicrm/event/info?reset=1&id=1979
END:VEVENT
END:VCALENDAR
